BEGIN:VCALENDAR
VERSION:2.0
PRODID:-//Spotkania Małżeńskie Wrocław - ECPv6.15.20//NONSGML v1.0//EN
CALSCALE:GREGORIAN
METHOD:PUBLISH
X-ORIGINAL-URL:https://spotkaniamalzenskie.wroclaw.pl
X-WR-CALDESC:Wydarzenia dla Spotkania Małżeńskie Wrocław
REFRESH-INTERVAL;VALUE=DURATION:PT1H
X-Robots-Tag:noindex
X-PUBLISHED-TTL:PT1H
BEGIN:VTIMEZONE
TZID:Europe/Warsaw
BEGIN:DAYLIGHT
TZOFFSETFROM:+0100
TZOFFSETTO:+0200
TZNAME:CEST
DTSTART:20250330T010000
END:DAYLIGHT
BEGIN:STANDARD
TZOFFSETFROM:+0200
TZOFFSETTO:+0100
TZNAME:CET
DTSTART:20251026T010000
END:STANDARD
BEGIN:DAYLIGHT
TZOFFSETFROM:+0100
TZOFFSETTO:+0200
TZNAME:CEST
DTSTART:20260329T010000
END:DAYLIGHT
BEGIN:STANDARD
TZOFFSETFROM:+0200
TZOFFSETTO:+0100
TZNAME:CET
DTSTART:20261025T010000
END:STANDARD
BEGIN:DAYLIGHT
TZOFFSETFROM:+0100
TZOFFSETTO:+0200
TZNAME:CEST
DTSTART:20270328T010000
END:DAYLIGHT
BEGIN:STANDARD
TZOFFSETFROM:+0200
TZOFFSETTO:+0100
TZNAME:CET
DTSTART:20271031T010000
END:STANDARD
END:VTIMEZONE
BEGIN:VEVENT
DTSTART;TZID=Europe/Warsaw:20260612T173000
DTEND;TZID=Europe/Warsaw:20260614T150000
DTSTAMP:20260421T032932
CREATED:20260327T105004Z
LAST-MODIFIED:20260327T105021Z
UID:1472-1781285400-1781449200@spotkaniamalzenskie.wroclaw.pl
SUMMARY:Weekend małżeński - tu można się zapisać
DESCRIPTION:DOM Rekolekcyjny Księży Pallotynów   Piastowska 7\, Ząbkowice Śląskie \n\n\nZapraszamy na weekend\, który może odmienić wasze małżeństwo. W atmosferze pełnej dyskrecji\, dzięki sprawdzonej metodzie możecie przeżyć spotkanie\, które pozwoli wam spojrzeć na siebie na nowo i zachwycić się cudem waszej miłości. Zamknięte\, weekendowe warsztaty dla małżeństw są podstawową formą działalności Spotkań Małżeńskich. Spotkania te są prowadzone przez trzy odpowiednio przygotowane pary małżeńskie i kapłana\, których wprowadzenia inspirują małżonków do pracy własnej. […]
URL:https://spotkaniamalzenskie.wroclaw.pl/wydarzenie/weekend-malzenski-tu-mozna-sie-zapisac/
LOCATION:DOM Rekolekcyjny Księży Pallotynów\, Piastowska 7\, Ząbkowice Śląskie\, 57-200
ATTACH;FMTTYPE=image/jpeg:https://spotkaniamalzenskie.wroclaw.pl/wp-content/uploads/2021/10/sky-g74dd4c096_1920.jpg
END:VEVENT
BEGIN:VEVENT
DTSTART;TZID=Europe/Warsaw:20261009T180000
DTEND;TZID=Europe/Warsaw:20261011T140000
DTSTAMP:20260421T032932
CREATED:20251213T074835Z
LAST-MODIFIED:20260327T105449Z
UID:1427-1791568800-1791727200@spotkaniamalzenskie.wroclaw.pl
SUMMARY:Weekend Małżeński- tu można się zapisać
DESCRIPTION:Zapraszamy na weekend\, który może odmienić wasze małżeństwo. W atmosferze pełnej dyskrecji\, dzięki sprawdzonej metodzie możecie przeżyć spotkanie\, które pozwoli wam spojrzeć na siebie na nowo i zachwycić się cudem waszej miłości. \nZamknięte\, weekendowe warsztaty dla małżeństw są podstawową formą działalności Spotkań Małżeńskich. Spotkania te są prowadzone przez trzy odpowiednio przygotowane pary małżeńskie i kapłana\, których wprowadzenia inspirują małżonków do pracy własnej. Zadaniem animatorów jest ukazanie uczestnikom tematu do dialogu prowadzonego tylko we dwoje. Zapewniona jest pełna intymność i żadne sprawy łączące lub dzielące małżonków uczestniczących w weekendzie nie są ujawniane\, również pomiędzy innymi uczestnikami wyjazdu.
URL:https://spotkaniamalzenskie.wroclaw.pl/wydarzenie/weekend-malzenski-18/
LOCATION:DOM Rekolekcyjny Księży Pallotynów\, Piastowska 7\, Ząbkowice Śląskie\, 57-200
CATEGORIES:Aktualności,Weekend małżeński
ATTACH;FMTTYPE=image/jpeg:https://spotkaniamalzenskie.wroclaw.pl/wp-content/uploads/2021/10/sky-g74dd4c096_1920.jpg
END:VEVENT
BEGIN:VEVENT
DTSTART;TZID=Europe/Warsaw:20261120T173000
DTEND;TZID=Europe/Warsaw:20261122T140000
DTSTAMP:20260421T032932
CREATED:20260327T105743Z
LAST-MODIFIED:20260327T105743Z
UID:1475-1795195800-1795356000@spotkaniamalzenskie.wroclaw.pl
SUMMARY:Weekend Małżeński - tu można się zapisać
DESCRIPTION:DOM Rekolekcyjny Księży Pallotynów   Piastowska 7\, Ząbkowice Śląskie \n\n\nZapraszamy na weekend\, który może odmienić wasze małżeństwo. W atmosferze pełnej dyskrecji\, dzięki sprawdzonej metodzie możecie przeżyć spotkanie\, które pozwoli wam spojrzeć na siebie na nowo i zachwycić się cudem waszej miłości. Zamknięte\, weekendowe warsztaty dla małżeństw są podstawową formą działalności Spotkań Małżeńskich. Spotkania te są prowadzone przez trzy odpowiednio przygotowane pary małżeńskie i kapłana\, których wprowadzenia inspirują małżonków do pracy własnej. […]
URL:https://spotkaniamalzenskie.wroclaw.pl/wydarzenie/weekend-malzenski-tu-mozna-sie-zapisac-2/
LOCATION:DOM Rekolekcyjny Księży Pallotynów\, Piastowska 7\, Ząbkowice Śląskie\, 57-200
ATTACH;FMTTYPE=image/jpeg:https://spotkaniamalzenskie.wroclaw.pl/wp-content/uploads/2021/10/sky-g74dd4c096_1920.jpg
END:VEVENT
END:VCALENDAR